BEGIN:VCALENDAR
VERSION:2.0
PRODID:-//New England Basset Hound Rescue - ECPv5.16.3.1//NONSGML v1.0//EN
CALSCALE:GREGORIAN
METHOD:PUBLISH
X-ORIGINAL-URL:https://newenglandbassethoundrescue.org
X-WR-CALDESC:Events for New England Basset Hound Rescue
REFRESH-INTERVAL;VALUE=DURATION:PT1H
X-Robots-Tag:noindex
X-PUBLISHED-TTL:PT1H
BEGIN:VTIMEZONE
TZID:UTC
BEGIN:STANDARD
TZOFFSETFROM:+0000
TZOFFSETTO:+0000
TZNAME:UTC
DTSTART:20240101T000000
END:STANDARD
END:VTIMEZONE
BEGIN:VEVENT
DTSTART;TZID=UTC:20241020T110000
DTEND;TZID=UTC:20241020T150000
DTSTAMP:20260422T013834
CREATED:20240609T024130Z
LAST-MODIFIED:20240609T024130Z
UID:689-1729422000-1729436400@newenglandbassethoundrescue.org
SUMMARY:Bassetpalooza 2024
DESCRIPTION:The greatest day of the year is just around the corner!  Bassetpalooza\, NEBHR’s major annual fundraiser\, is a day of fun\, friends\, fur-kids\, music\, games and more.  All hounds (non-hounds\, too) and their humans are invited\, and there is no admission charge.  We hope you can join us!
URL:https://newenglandbassethoundrescue.org/event/bassetpalooza-2024/
LOCATION:The Fairgrounds in Lancaster\, 318 7-Bridge Road\, Lancaster\, MA\, United States
ATTACH;FMTTYPE=image/jpeg:https://newenglandbassethoundrescue.org/wp-content/uploads/2024/06/Waddle-Photo.jpeg
END:VEVENT
END:VCALENDAR