BEGIN:VCALENDAR
VERSION:2.0
PRODID:-//New England Basset Hound Rescue - ECPv5.16.3.1//NONSGML v1.0//EN
CALSCALE:GREGORIAN
METHOD:PUBLISH
X-ORIGINAL-URL:https://newenglandbassethoundrescue.org
X-WR-CALDESC:Events for New England Basset Hound Rescue
REFRESH-INTERVAL;VALUE=DURATION:PT1H
X-Robots-Tag:noindex
X-PUBLISHED-TTL:PT1H
BEGIN:VTIMEZONE
TZID:UTC
BEGIN:STANDARD
TZOFFSETFROM:+0000
TZOFFSETTO:+0000
TZNAME:UTC
DTSTART:20230101T000000
END:STANDARD
END:VTIMEZONE
BEGIN:VEVENT
DTSTART;TZID=UTC:20231015T110000
DTEND;TZID=UTC:20231015T150000
DTSTAMP:20260424T132531
CREATED:20230402T160337Z
LAST-MODIFIED:20230806T194654Z
UID:478-1697367600-1697382000@newenglandbassethoundrescue.org
SUMMARY:Bassetpalooza 2023
DESCRIPTION:Join us for a day of fun and canine camaraderie! We’ll have games\, food\, music\, contests\, raffles\, vendors and more. All canines and their human companions are invited. Follow us on Facebook for the most updated information – https://www.facebook.com/nebhr
URL:https://newenglandbassethoundrescue.org/event/bassetpalooza-2023/
LOCATION:The Fairgrounds in Lancaster\, 318 7-Bridge Road\, Lancaster\, MA\, United States
END:VEVENT
END:VCALENDAR